BEGIN:VCALENDAR
VERSION:2.0
PRODID:spatie/icalendar-generator
DESCRIPTION:Events from True Fellowship in San José
X-WR-CALDESC:Events from True Fellowship in San José
REFRESH-INTERVAL;VALUE=DURATION:PT1440M
X-PUBLISHED-TTL:PT1440M
BEGIN:VTIMEZONE
TZID:America/Los_Angeles
BEGIN:DAYLIGHT
DTSTART:20240310T020000Z
TZOFFSETFROM:-0800
TZOFFSETTO:-0700
END:DAYLIGHT
BEGIN:STANDARD
DTSTART:20241103T020000Z
TZOFFSETFROM:-0700
TZOFFSETTO:-0800
END:STANDARD
END:VTIMEZONE
BEGIN:VTIMEZONE
TZID:UTC
BEGIN:STANDARD
DTSTART:20250729T023321Z
TZOFFSETFROM:+0000
TZOFFSETTO:+0000
END:STANDARD
END:VTIMEZONE
BEGIN:VEVENT
UID:508-55
DTSTAMP:20260425T023321Z
SUMMARY:Jane Austen Dance
LOCATION:San Jose Odd Fellows Lodge 1035 Emory Street  San Jose California 
 95126
ORGANIZER;CN=Alan:MAILTO:alanprincewinston@gmail.com
DTSTART;TZID=America/Los_Angeles:20240810T183000
DTEND;TZID=America/Los_Angeles:20240810T223000
X-ALT-DESC;FMTTYPE=TEXT/HTML:<p>Come and enjoy a community dance in the ele
 gant and romantic spirit of Jane Austen at True Fellowship #52 on August 1
 0.</p>\n
CATEGORIES:dancing,  public
URL;VALUE=URI:https://true52.org/mc-events/jane-austen-dance/
METHOD:PUBLISH
END:VEVENT
END:VCALENDAR